BEGIN:VCALENDAR
VERSION:2.0
PRODID:-//The Episcopal Diocese of Virginia - ECPv6.15.20//NONSGML v1.0//EN
CALSCALE:GREGORIAN
METHOD:PUBLISH
X-WR-CALNAME:The Episcopal Diocese of Virginia
X-ORIGINAL-URL:https://episcopalvirginia.org
X-WR-CALDESC:Events for The Episcopal Diocese of Virginia
REFRESH-INTERVAL;VALUE=DURATION:PT1H
X-Robots-Tag:noindex
X-PUBLISHED-TTL:PT1H
BEGIN:VTIMEZONE
TZID:America/New_York
BEGIN:DAYLIGHT
TZOFFSETFROM:-0500
TZOFFSETTO:-0400
TZNAME:EDT
DTSTART:20230312T070000
END:DAYLIGHT
BEGIN:STANDARD
TZOFFSETFROM:-0400
TZOFFSETTO:-0500
TZNAME:EST
DTSTART:20231105T060000
END:STANDARD
BEGIN:DAYLIGHT
TZOFFSETFROM:-0500
TZOFFSETTO:-0400
TZNAME:EDT
DTSTART:20240310T070000
END:DAYLIGHT
BEGIN:STANDARD
TZOFFSETFROM:-0400
TZOFFSETTO:-0500
TZNAME:EST
DTSTART:20241103T060000
END:STANDARD
BEGIN:DAYLIGHT
TZOFFSETFROM:-0500
TZOFFSETTO:-0400
TZNAME:EDT
DTSTART:20250309T070000
END:DAYLIGHT
BEGIN:STANDARD
TZOFFSETFROM:-0400
TZOFFSETTO:-0500
TZNAME:EST
DTSTART:20251102T060000
END:STANDARD
BEGIN:DAYLIGHT
TZOFFSETFROM:-0500
TZOFFSETTO:-0400
TZNAME:EDT
DTSTART:20260308T070000
END:DAYLIGHT
BEGIN:STANDARD
TZOFFSETFROM:-0400
TZOFFSETTO:-0500
TZNAME:EST
DTSTART:20261101T060000
END:STANDARD
BEGIN:DAYLIGHT
TZOFFSETFROM:-0500
TZOFFSETTO:-0400
TZNAME:EDT
DTSTART:20270314T070000
END:DAYLIGHT
BEGIN:STANDARD
TZOFFSETFROM:-0400
TZOFFSETTO:-0500
TZNAME:EST
DTSTART:20271107T060000
END:STANDARD
END:VTIMEZONE
BEGIN:VEVENT
DTSTART;TZID=America/New_York:20260212T183000
DTEND;TZID=America/New_York:20260212T213000
DTSTAMP:20260420T062717
CREATED:20260127T034253Z
LAST-MODIFIED:20260127T034253Z
UID:10000342-1770921000-1770931800@episcopalvirginia.org
SUMMARY:Celebration of the Holy Eucharist Commemorating the Rt. Rev. Barbara C. Harris and the Rev. Absalom Jones
DESCRIPTION:The Diocese of Virginia invites you to a Celebration of the Holy Eucharist commemorating the consecration of the Rt. Rev’d Barbara Clementine Harris\, the first woman Bishop in the Anglican Communion\, and celebrating the life and witness of the Rev. Absalom Jones\, the first African American priest in The Episcopal Church. The Rt. Rev’d Gayle E. Harris\, Assistant Bishop of the Diocese of Virginia\, will preside and preach. Bishop Harris\, Canon Ricardo Sheppard\, and the Very Rev. Janettarose Greene will serve as co-celebrants.
URL:https://episcopalvirginia.org/event/eucharist-commemorating-harris-jones/
LOCATION:St. Mary’s Episcopal Church\, Arlington\, 2609 N. Glebe Rd\, Arlington\, VA\, 22207\, United States
CATEGORIES:Diocesan Events,Racial Healing
END:VEVENT
BEGIN:VEVENT
DTSTART;TZID=America/New_York:20251102T170000
DTEND;TZID=America/New_York:20251102T200000
DTSTAMP:20260420T062717
CREATED:20251001T160908Z
LAST-MODIFIED:20251001T160908Z
UID:10000289-1762102800-1762113600@episcopalvirginia.org
SUMMARY:All Saints' Choral Requiem Eucharist
DESCRIPTION:All Saints’ Eucharist with Gabriel Fauré’s “Requiem” sung by St. Mary’s Choir with soloists and orchestra\, followed by a reception. All are welcome!
URL:https://episcopalvirginia.org/event/all-saints-choral-requiem-eucharist/
LOCATION:St. Mary’s Episcopal Church\, Arlington\, 2609 N. Glebe Rd\, Arlington\, VA\, 22207\, United States
CATEGORIES:Church Events,Music & Worship
END:VEVENT
BEGIN:VEVENT
DTSTART;TZID=America/New_York:20240415T183000
DTEND;TZID=America/New_York:20240415T200000
DTSTAMP:20260420T062717
CREATED:20240311T185534Z
LAST-MODIFIED:20240412T141413Z
UID:10000027-1713205800-1713211200@episcopalvirginia.org
SUMMARY:Movie Screening: My Name is Pauli Murray
DESCRIPTION:FREE TO ALL\, a love offering will be taken. Concessions will be available by the Youth of St. Mary’s.
URL:https://episcopalvirginia.org/event/movie-screening-my-name-is-pauli-murray/
LOCATION:St. Mary’s Episcopal Church\, Arlington\, 2609 N. Glebe Rd\, Arlington\, VA\, 22207\, United States
CATEGORIES:Church Events
END:VEVENT
BEGIN:VEVENT
DTSTART;TZID=America/New_York:20240405T183000
DTEND;TZID=America/New_York:20240405T200000
DTSTAMP:20260420T062717
CREATED:20240311T185352Z
LAST-MODIFIED:20240311T185547Z
UID:10000026-1712341800-1712347200@episcopalvirginia.org
SUMMARY:Movie Screening: The Philadelphia Eleven
DESCRIPTION:FREE TO ALL\, a love offering will be taken. Concessions will be available by the Youth of St. Mary’s.
URL:https://episcopalvirginia.org/event/movie-screening-the-philadelphia-eleven/
LOCATION:St. Mary’s Episcopal Church\, Arlington\, 2609 N. Glebe Rd\, Arlington\, VA\, 22207\, United States
CATEGORIES:Church Events
END:VEVENT
BEGIN:VEVENT
DTSTART;TZID=America/New_York:20240322T183000
DTEND;TZID=America/New_York:20240322T203000
DTSTAMP:20260420T062717
CREATED:20240311T185201Z
LAST-MODIFIED:20240311T185559Z
UID:10000025-1711132200-1711139400@episcopalvirginia.org
SUMMARY:Movie Screening: A Case for Love
DESCRIPTION:FREE TO ALL\, a love offering will be taken. Concessions will be available by the Youth of St. Mary’s. \n \n 
URL:https://episcopalvirginia.org/event/case-love-2/
LOCATION:St. Mary’s Episcopal Church\, Arlington\, 2609 N. Glebe Rd\, Arlington\, VA\, 22207\, United States
CATEGORIES:Church Events
END:VEVENT
BEGIN:VEVENT
DTSTART;TZID=America/New_York:20240311T183000
DTEND;TZID=America/New_York:20240311T203000
DTSTAMP:20260420T062717
CREATED:20240311T184946Z
LAST-MODIFIED:20240311T185615Z
UID:10000023-1710181800-1710189000@episcopalvirginia.org
SUMMARY:Movie Screening: A Case for Love
DESCRIPTION:FREE TO ALL\, a love offering will be taken. Concessions will be available by the Youth of St. Mary’s. \n \n  \n 
URL:https://episcopalvirginia.org/event/movie-screening-a-case-for-love/
LOCATION:St. Mary’s Episcopal Church\, Arlington\, 2609 N. Glebe Rd\, Arlington\, VA\, 22207\, United States
CATEGORIES:Church Events
END:VEVENT
END:VCALENDAR