BEGIN:VCALENDAR
VERSION:2.0
PRODID:-//The Episcopal Diocese of Virginia - ECPv6.15.20//NONSGML v1.0//EN
CALSCALE:GREGORIAN
METHOD:PUBLISH
X-WR-CALNAME:The Episcopal Diocese of Virginia
X-ORIGINAL-URL:https://episcopalvirginia.org
X-WR-CALDESC:Events for The Episcopal Diocese of Virginia
REFRESH-INTERVAL;VALUE=DURATION:PT1H
X-Robots-Tag:noindex
X-PUBLISHED-TTL:PT1H
BEGIN:VTIMEZONE
TZID:America/New_York
BEGIN:DAYLIGHT
TZOFFSETFROM:-0500
TZOFFSETTO:-0400
TZNAME:EDT
DTSTART:20250309T070000
END:DAYLIGHT
BEGIN:STANDARD
TZOFFSETFROM:-0400
TZOFFSETTO:-0500
TZNAME:EST
DTSTART:20251102T060000
END:STANDARD
BEGIN:DAYLIGHT
TZOFFSETFROM:-0500
TZOFFSETTO:-0400
TZNAME:EDT
DTSTART:20260308T070000
END:DAYLIGHT
BEGIN:STANDARD
TZOFFSETFROM:-0400
TZOFFSETTO:-0500
TZNAME:EST
DTSTART:20261101T060000
END:STANDARD
BEGIN:DAYLIGHT
TZOFFSETFROM:-0500
TZOFFSETTO:-0400
TZNAME:EDT
DTSTART:20270314T070000
END:DAYLIGHT
BEGIN:STANDARD
TZOFFSETFROM:-0400
TZOFFSETTO:-0500
TZNAME:EST
DTSTART:20271107T060000
END:STANDARD
END:VTIMEZONE
BEGIN:VEVENT
DTSTART;VALUE=DATE:20260619
DTEND;VALUE=DATE:20260622
DTSTAMP:20260421T094437
CREATED:20260211T002910Z
LAST-MODIFIED:20260211T003330Z
UID:10000360-1781827200-1782086399@episcopalvirginia.org
SUMMARY:Summer Yoga in the Mountains
DESCRIPTION:Take a break from your busy life with a weekend yoga retreat in the cool beauty of the Shenandoah Valley. Richmond area instructors Bonnijean Boggess\, Julian Desta and Donna Cushlanis will be leading a variety of all-level yoga classes in indoor and outdoor spaces in and around the historic Shrine Mont Retreat Center located in the quaint town of Orkney Springs\, Virginia. Take a step back in time to the natural beauty and historic buildings of this hidden gem. You will have time to explore the grounds\, history and enjoy the wonderful southern menu items offered in family -style dining or take out. The chefs can accommodate vegan\, vegetarian and other dietary restrictions. \nRegister Online
URL:https://episcopalvirginia.org/event/summer-yoga-in-the-mountains-3/
LOCATION:Shrine Mont Conference and Retreat Center\, 217 Shrine Mont Circle\, Orkney Springs\, VA\, 22845\, United States
CATEGORIES:Shrine Mont
END:VEVENT
BEGIN:VEVENT
DTSTART;VALUE=DATE:20260727
DTEND;VALUE=DATE:20260801
DTSTAMP:20260421T094437
CREATED:20260211T003056Z
LAST-MODIFIED:20260211T003056Z
UID:10000361-1785110400-1785542399@episcopalvirginia.org
SUMMARY:Summer Day Camp
DESCRIPTION:Shrine Mont welcomes your child for a week of day camp! We have a great lineup of activities on over 1\,100 acres with abundant hiking trails and nature galore with a wonderful staff ready to keep our campers active and entertained for a fun week! \nRegister Online
URL:https://episcopalvirginia.org/event/summer-day-camp/
LOCATION:Shrine Mont Conference and Retreat Center\, 217 Shrine Mont Circle\, Orkney Springs\, VA\, 22845\, United States
CATEGORIES:Shrine Mont
END:VEVENT
BEGIN:VEVENT
DTSTART;VALUE=DATE:20261002
DTEND;VALUE=DATE:20261005
DTSTAMP:20260421T094437
CREATED:20260211T003508Z
LAST-MODIFIED:20260211T003508Z
UID:10000362-1790899200-1791158399@episcopalvirginia.org
SUMMARY:Harvesting the Spirit-A Yoga Weekend
DESCRIPTION:This retreat is an invitation to come home to yourself and to reconnect to the inner “you” through yoga practice. This weekend will focus on slowing down\, breathing and allowing ourselves to harvest our inner spirit and rhythm of our body. Our weekend will include restorative yoga\, healing poses\, expressive movement\, and relaxation time\, hiking and a bonfire. \nRegister Online
URL:https://episcopalvirginia.org/event/harvesting-the-spirit-a-yoga-weekend-3/
LOCATION:Shrine Mont Conference and Retreat Center\, 217 Shrine Mont Circle\, Orkney Springs\, VA\, 22845\, United States
CATEGORIES:Shrine Mont
END:VEVENT
BEGIN:VEVENT
DTSTART;VALUE=DATE:20261016
DTEND;VALUE=DATE:20261019
DTSTAMP:20260421T094437
CREATED:20260211T003659Z
LAST-MODIFIED:20260211T003659Z
UID:10000363-1792108800-1792367999@episcopalvirginia.org
SUMMARY:Fly Fishing Fundamentals - Beginners II
DESCRIPTION:Shrine Mont has teamed up with Orkney Springs Outfitters to offer an immersive introduction to Fly Fishing. The weekend course is designed to teach students about the intricacies of fly fishing with hands on instruction that covers everything from tying flies and casting to pond and river fishing at the South River for trout. During the 3 day event\, students will start with the basics of casting\, practice on a stocked pond and then hit the river for a day of quality fishing. \nRegister Online
URL:https://episcopalvirginia.org/event/fly-fishing-fundamentals-beginners-ii/
LOCATION:Shrine Mont Conference and Retreat Center\, 217 Shrine Mont Circle\, Orkney Springs\, VA\, 22845\, United States
CATEGORIES:Shrine Mont
END:VEVENT
BEGIN:VEVENT
DTSTART;VALUE=DATE:20261016
DTEND;VALUE=DATE:20261019
DTSTAMP:20260421T094437
CREATED:20260211T003830Z
LAST-MODIFIED:20260211T003830Z
UID:10000364-1792108800-1792367999@episcopalvirginia.org
SUMMARY:Float into Fall by Slowing Down with Yoga and Reiki
DESCRIPTION:Unwind this fall and prepare yourself for a cozy winter by truly slowing down. With nature as a guide\, you’re invited to let things go and reconnect within via yoga\, breathwork\, and mindful movement.* Guided meditation and yoga nidra\, workshops\, group conversation\, and journaling practices deepen your journey. \nRegister Online
URL:https://episcopalvirginia.org/event/float-into-fall-by-slowing-down-with-yoga-and-reiki-3/
LOCATION:Shrine Mont Conference and Retreat Center\, 217 Shrine Mont Circle\, Orkney Springs\, VA\, 22845\, United States
CATEGORIES:Shrine Mont
END:VEVENT
BEGIN:VEVENT
DTSTART;VALUE=DATE:20261106
DTEND;VALUE=DATE:20261109
DTSTAMP:20260421T094437
CREATED:20260211T004014Z
LAST-MODIFIED:20260211T004014Z
UID:10000365-1793923200-1794182399@episcopalvirginia.org
SUMMARY:Fly Fishing Fundamentals - Intermediate/Advanced II
DESCRIPTION:Shrine Mont has teamed up with Orkney Springs Outfitters to offer an immersive introduction to Fly Fishing. This weekend course is designed to teach students about the intricacies of fly fishing with hands on instruction that covers everything from tying flies and casting to pond and river fishing at the South River for trout. During the 3 day event\, students will start with the basics of casting\, practice on a stocked pond and then hit the river for a day of quality fishing. This class is perfect for intermediate to advanced fly fishers. \nRegister Online
URL:https://episcopalvirginia.org/event/fly-fishing-fundamentals-intermediate-advanced-ii/
LOCATION:Shrine Mont Conference and Retreat Center\, 217 Shrine Mont Circle\, Orkney Springs\, VA\, 22845\, United States
CATEGORIES:Shrine Mont
END:VEVENT
BEGIN:VEVENT
DTSTART;VALUE=DATE:20261106
DTEND;VALUE=DATE:20261109
DTSTAMP:20260421T094437
CREATED:20260211T004241Z
LAST-MODIFIED:20260211T004241Z
UID:10000366-1793923200-1794182399@episcopalvirginia.org
SUMMARY:Fall Digital Photography
DESCRIPTION:Do you own a digital camera but don’t know exactly how to use it? Are you not totally satisfied with your vacation images and want to learn more about composition and exposure? Then the Digital Photography Weekend at Shrine Mont is for you! \nBoth beginners and advanced participants are welcome. After reviewing the basics of photography\, the major settings of your camera like Aperture\, Shutter Speed and ISO\, students can practice by exploring the historic village of Orkney Springs\, the magnificent buildings of Shrine Mont with its colorful flora\, natural beauty\, inspiring architecture and interesting antiques. \nAfter shooting\, students have the opportunity to upload and edit their photographs in class (please bring a laptop or tablet)\, troubleshoot technical problems and train their creative eye. In the evening you can join us for refreshments and travel stories\, or do some night photography (very popular). \nRegister Online
URL:https://episcopalvirginia.org/event/fall-digital-photography/
LOCATION:Shrine Mont Conference and Retreat Center\, 217 Shrine Mont Circle\, Orkney Springs\, VA\, 22845\, United States
CATEGORIES:Shrine Mont
END:VEVENT
END:VCALENDAR