BEGIN:VCALENDAR
VERSION:2.0
PRODID:-//The Episcopal Diocese of Virginia - ECPv6.15.20//NONSGML v1.0//EN
CALSCALE:GREGORIAN
METHOD:PUBLISH
X-ORIGINAL-URL:https://episcopalvirginia.org
X-WR-CALDESC:Events for The Episcopal Diocese of Virginia
REFRESH-INTERVAL;VALUE=DURATION:PT1H
X-Robots-Tag:noindex
X-PUBLISHED-TTL:PT1H
BEGIN:VTIMEZONE
TZID:America/New_York
BEGIN:DAYLIGHT
TZOFFSETFROM:-0500
TZOFFSETTO:-0400
TZNAME:EDT
DTSTART:20250309T070000
END:DAYLIGHT
BEGIN:STANDARD
TZOFFSETFROM:-0400
TZOFFSETTO:-0500
TZNAME:EST
DTSTART:20251102T060000
END:STANDARD
BEGIN:DAYLIGHT
TZOFFSETFROM:-0500
TZOFFSETTO:-0400
TZNAME:EDT
DTSTART:20260308T070000
END:DAYLIGHT
BEGIN:STANDARD
TZOFFSETFROM:-0400
TZOFFSETTO:-0500
TZNAME:EST
DTSTART:20261101T060000
END:STANDARD
BEGIN:DAYLIGHT
TZOFFSETFROM:-0500
TZOFFSETTO:-0400
TZNAME:EDT
DTSTART:20270314T070000
END:DAYLIGHT
BEGIN:STANDARD
TZOFFSETFROM:-0400
TZOFFSETTO:-0500
TZNAME:EST
DTSTART:20271107T060000
END:STANDARD
END:VTIMEZONE
BEGIN:VEVENT
DTSTART;TZID=America/New_York:20260224T130000
DTEND;TZID=America/New_York:20260224T150000
DTSTAMP:20260422T183907
CREATED:20260218T173914Z
LAST-MODIFIED:20260218T173914Z
UID:10000377-1771938000-1771945200@episcopalvirginia.org
SUMMARY:Sacred Ground New Facilitators Support Webinar
DESCRIPTION:New Sacred Ground facilitators are invited and encouraged to join a small-group webinar to learn techniques and practices to help make your first group as successful as possible. Choose from two time slots\, or indicate your interest in a future session. \nRegister Online
URL:https://episcopalvirginia.org/event/sacred-ground-new-facilitators-support-webinar/2026-02-24/
LOCATION:Online
CATEGORIES:Diocesan Events,Racial Healing
END:VEVENT
BEGIN:VEVENT
DTSTART;TZID=America/New_York:20260228T110000
DTEND;TZID=America/New_York:20260228T130000
DTSTAMP:20260422T183907
CREATED:20260209T231305Z
LAST-MODIFIED:20260210T012930Z
UID:10000349-1772276400-1772283600@episcopalvirginia.org
SUMMARY:Visio Divina
DESCRIPTION:The Ministry for Racial Justice and Healing invites you to a unique encounter with art\, faith\, and justice at the Virginia Museum of Fine Arts (VMFA) in celebration of Black History Month. Giants is a landmark exhibition featuring monumental works by Black artists from the collection of Swizz Beatz and Alicia Keys. To help us engage deeply with these works\, we will use the practice of Visio Divina (literally “divine seeing”). \nVisio Divina invites us to sit quietly with a single piece of art\, noticing how the colors\, subjects\, and stories stir our hearts. It is a way of praying with our eyes open\, asking: Where is God moving in this image? \nBy centering the brilliance\, struggle\, and joy found in the work of “Giants” like Kehinde Wiley and Amy Sherald\, we practice honoring the divine image in our neighbors. This is an opportunity to move beyond words and let art speak to our spirits. \nPre-Gathering: Thursday\, February 26 at 7pm Zoom \nJoin us for a brief overview of Visio Divina to help prepare ourselves for Giants. \nMeeting Point: Main Entrance\, VMFA\, by 10:45am; following our viewing we will gather at Best Cafe for small group conversation\, coffee and pastries. \nCost: $12 Adults; $10 Seniors (65 +); $8 (Youth 7-17 and College students); Child 6 and under – Free \nMore information about the exhibit: Giants: Art from the Dean Collection of Swizz Beatz and Alicia Keys at VMFA \nRegistration is limited to 20 participants \nTo register please contact Tammy Lewis
URL:https://episcopalvirginia.org/event/visio-divina/
LOCATION:Virginia Museum of Fine Arts\, 200 N. Arthur Ashe Blvd\, Richmond\, VA\, 23220\, United States
CATEGORIES:Racial Healing
END:VEVENT
BEGIN:VEVENT
DTSTART;TZID=America/New_York:20260305T180000
DTEND;TZID=America/New_York:20260305T200000
DTSTAMP:20260422T183907
CREATED:20260218T173914Z
LAST-MODIFIED:20260218T173914Z
UID:10000378-1772733600-1772740800@episcopalvirginia.org
SUMMARY:Sacred Ground New Facilitators Support Webinar
DESCRIPTION:New Sacred Ground facilitators are invited and encouraged to join a small-group webinar to learn techniques and practices to help make your first group as successful as possible. Choose from two time slots\, or indicate your interest in a future session. \nRegister Online
URL:https://episcopalvirginia.org/event/sacred-ground-new-facilitators-support-webinar/2026-03-05/
LOCATION:Online
CATEGORIES:Diocesan Events,Racial Healing
END:VEVENT
BEGIN:VEVENT
DTSTART;TZID=America/New_York:20260314T093000
DTEND;TZID=America/New_York:20260314T150000
DTSTAMP:20260422T183907
CREATED:20260223T182639Z
LAST-MODIFIED:20260312T172933Z
UID:10000380-1773480600-1773500400@episcopalvirginia.org
SUMMARY:Racial Justice Training Workshop: "I Will with God’s Help"
DESCRIPTION:The Ministry for Racial Justice and Healing will host an “I Will\, With God’s Help\,” a racial justice training workshop for lay and ordained leaders in the Diocese of Virginia\, in the North Fairfax Region on March 14 at Holy Comforter\, 543 Beulah Road\, NE Vienna\, VA 22180 from 9:30am – 3:00pm. Lunch is provided. To register\, contact Tammy Lewis. \nAlso see the training on April 25\, 2026 at Trinity Episcopal Church\, Charlottesville.
URL:https://episcopalvirginia.org/event/racial-justice-gods-help/
LOCATION:Church of the Holy Comforter\, Vienna\, 543 Beulah Rd\, Vienna\, 22180\, United States
CATEGORIES:Racial Healing
END:VEVENT
BEGIN:VEVENT
DTSTART;TZID=America/New_York:20260425T090000
DTEND;TZID=America/New_York:20260425T150000
DTSTAMP:20260422T183907
CREATED:20260312T164541Z
LAST-MODIFIED:20260413T182633Z
UID:10000391-1777107600-1777129200@episcopalvirginia.org
SUMMARY:Racial Justice Training Workshop: “I Will\, With God’s Help”
DESCRIPTION:This workshop is for clergy\, lay leaders\, congregations\, regions\, and all who want to activate their racial justice heart. This workshop complements Healing from Internalized Oppression and Sacred Ground. \nWhat’s Included: \n\nLunch\nSpirit-centered conversations about justice\nPractical tools for ministry\nLiturgically centered racial justice training with a closing Eucharist\n\nFor more information\, contact Tammy Lewis.
URL:https://episcopalvirginia.org/event/i-will-with-gods-help-2/
LOCATION:Trinity Episcopal Church\, Charlottesville\, 1118 Preston Ave\, Charlottesville\, VA\, 22903\, United States
CATEGORIES:Racial Healing
END:VEVENT
END:VCALENDAR