BEGIN:VCALENDAR
VERSION:2.0
PRODID:-//The Episcopal Diocese of Virginia - ECPv6.15.20//NONSGML v1.0//EN
CALSCALE:GREGORIAN
METHOD:PUBLISH
X-ORIGINAL-URL:https://episcopalvirginia.org
X-WR-CALDESC:Events for The Episcopal Diocese of Virginia
REFRESH-INTERVAL;VALUE=DURATION:PT1H
X-Robots-Tag:noindex
X-PUBLISHED-TTL:PT1H
BEGIN:VTIMEZONE
TZID:America/New_York
BEGIN:DAYLIGHT
TZOFFSETFROM:-0500
TZOFFSETTO:-0400
TZNAME:EDT
DTSTART:20240310T070000
END:DAYLIGHT
BEGIN:STANDARD
TZOFFSETFROM:-0400
TZOFFSETTO:-0500
TZNAME:EST
DTSTART:20241103T060000
END:STANDARD
BEGIN:DAYLIGHT
TZOFFSETFROM:-0500
TZOFFSETTO:-0400
TZNAME:EDT
DTSTART:20250309T070000
END:DAYLIGHT
BEGIN:STANDARD
TZOFFSETFROM:-0400
TZOFFSETTO:-0500
TZNAME:EST
DTSTART:20251102T060000
END:STANDARD
BEGIN:DAYLIGHT
TZOFFSETFROM:-0500
TZOFFSETTO:-0400
TZNAME:EDT
DTSTART:20260308T070000
END:DAYLIGHT
BEGIN:STANDARD
TZOFFSETFROM:-0400
TZOFFSETTO:-0500
TZNAME:EST
DTSTART:20261101T060000
END:STANDARD
END:VTIMEZONE
BEGIN:VEVENT
DTSTART;TZID=America/New_York:20250902T150000
DTEND;TZID=America/New_York:20250902T160000
DTSTAMP:20260421T115005
CREATED:20250710T203610Z
LAST-MODIFIED:20250722T181427Z
UID:10000272-1756825200-1756828800@episcopalvirginia.org
SUMMARY:Fall Book Study: Migrant God: A Christian Vision for Immigrant Justice\, by Isaac Villegas
DESCRIPTION:Canon Hill and the Ministry for Racial Justice and Healing invites you to share in fall book study of “Migrant God: A Christian Vision for Immigrant Justice” by Isaac Villegas.  In a world grappling with complex issues of migration and belonging\, Villegas offers a powerful and deeply theological exploration of God’s presence among migrants and our call as Christians to advocate for justice\, welcome and the dignity of every human being. This isn’t just a book study about immigration\, but a profound reflection on the very nature of God\, our shared humanity\, and what it means to Love Jesus\, Embody Justice and Be Disciples as people of faith. \nIn our three-week book study\, we will explore: \n\nBiblical narratives of migration and displacement: How does scripture inform our understanding of the migrant experience?\nTheological foundations for immigrant justice: What does our faith teach us about welcoming the stranger and advocating for the vulnerable?\nPractical ways to engage in advocacy and support: How can we\, as individuals and as a church\, make a tangible difference in the lives of migrants and immigrants?\nChallenging our assumptions and expanding our compassion: How can we grow in empathy and understanding for those on the margins?\n\nStudy Details: \n\nBook: Migrant God: A Christian Vision for Immigrant Justice by Isaac Villegas (Please purchase and read your copy before each session.)\nFormat: Zoom\nStart Date: September 2\, 2025\nMeeting Day/Time: Tuesday\, 3:00pm\n\n\n\n\nSession One: Introduction\, Chapter 1\, Chapter 2\, and Chapter 3\nSession Two: Chapter 4\, Chapter 5\, and Chapter 6\nSession Three: Chapter 7\, Chapter 8\, and Conclusion\n\n\n\n\nFacilitator: Canon Dr. J. Lee Hill\, Jr.\n\nHow to Register: \n\nRegister: Email Tammy Lewis
URL:https://episcopalvirginia.org/event/migrant-god/
LOCATION:Zoom
CATEGORIES:Racial Healing
END:VEVENT
END:VCALENDAR