BEGIN:VCALENDAR
VERSION:2.0
PRODID:-//The Episcopal Diocese of Virginia - ECPv6.15.20//NONSGML v1.0//EN
CALSCALE:GREGORIAN
METHOD:PUBLISH
X-ORIGINAL-URL:https://episcopalvirginia.org
X-WR-CALDESC:Events for The Episcopal Diocese of Virginia
REFRESH-INTERVAL;VALUE=DURATION:PT1H
X-Robots-Tag:noindex
X-PUBLISHED-TTL:PT1H
BEGIN:VTIMEZONE
TZID:America/New_York
BEGIN:DAYLIGHT
TZOFFSETFROM:-0500
TZOFFSETTO:-0400
TZNAME:EDT
DTSTART:20230312T070000
END:DAYLIGHT
BEGIN:STANDARD
TZOFFSETFROM:-0400
TZOFFSETTO:-0500
TZNAME:EST
DTSTART:20231105T060000
END:STANDARD
BEGIN:DAYLIGHT
TZOFFSETFROM:-0500
TZOFFSETTO:-0400
TZNAME:EDT
DTSTART:20240310T070000
END:DAYLIGHT
BEGIN:STANDARD
TZOFFSETFROM:-0400
TZOFFSETTO:-0500
TZNAME:EST
DTSTART:20241103T060000
END:STANDARD
BEGIN:DAYLIGHT
TZOFFSETFROM:-0500
TZOFFSETTO:-0400
TZNAME:EDT
DTSTART:20250309T070000
END:DAYLIGHT
BEGIN:STANDARD
TZOFFSETFROM:-0400
TZOFFSETTO:-0500
TZNAME:EST
DTSTART:20251102T060000
END:STANDARD
END:VTIMEZONE
BEGIN:VEVENT
DTSTART;TZID=America/New_York:20240612T150000
DTEND;TZID=America/New_York:20240612T170000
DTSTAMP:20260422T090543
CREATED:20240513T175523Z
LAST-MODIFIED:20240513T180137Z
UID:10000102-1718204400-1718211600@episcopalvirginia.org
SUMMARY:Becoming Human Book Study
DESCRIPTION:Dr. Luke Powery was the featured presenter at our Spring Clergy Conference\, and shared powerful insights from his latest book\, Becoming Human: The Holy Spirit and the Rhetoric of Race. Dr. Powery masterfully integrates the Spiritual into his discourse on race\, justice\, and the Holy Spirit. This summer book study\, led by Canon Hill\, is designed to support and encourage those engaged in preaching at the intersections of race\, justice\, and faith. The study will take place every other Wednesday\, June 12-September 4 at 3 p.m. If you are interested in joining this Zoom-based summer book study or want to learn more\, please contact Tammy Lewis at tlewis@episcopalvirginia.org or 804-622-3179. \nDates: \n\nJune 12\, 2024 @ 3:00pm\nJune 26\, 2024 @ 3:00pm\nJuly 10\, 2024 @ 3:00pm\nJuly 24\, 2024 @ 3:00pm\nAugust 7\, 2024 @ 3:00pm\nAugust 21\, 2024 @ 3:00pm\nSeptember 4\, 2024 @ 3:00pm
URL:https://episcopalvirginia.org/event/becoming-human-book-study/
LOCATION:Zoom
CATEGORIES:Racial Healing
END:VEVENT
END:VCALENDAR