BEGIN:VCALENDAR
VERSION:2.0
PRODID:-//The Episcopal Diocese of Virginia - ECPv6.15.20//NONSGML v1.0//EN
CALSCALE:GREGORIAN
METHOD:PUBLISH
X-WR-CALNAME:The Episcopal Diocese of Virginia
X-ORIGINAL-URL:https://episcopalvirginia.org
X-WR-CALDESC:Events for The Episcopal Diocese of Virginia
REFRESH-INTERVAL;VALUE=DURATION:PT1H
X-Robots-Tag:noindex
X-PUBLISHED-TTL:PT1H
BEGIN:VTIMEZONE
TZID:America/New_York
BEGIN:DAYLIGHT
TZOFFSETFROM:-0500
TZOFFSETTO:-0400
TZNAME:EDT
DTSTART:20250309T070000
END:DAYLIGHT
BEGIN:STANDARD
TZOFFSETFROM:-0400
TZOFFSETTO:-0500
TZNAME:EST
DTSTART:20251102T060000
END:STANDARD
BEGIN:DAYLIGHT
TZOFFSETFROM:-0500
TZOFFSETTO:-0400
TZNAME:EDT
DTSTART:20260308T070000
END:DAYLIGHT
BEGIN:STANDARD
TZOFFSETFROM:-0400
TZOFFSETTO:-0500
TZNAME:EST
DTSTART:20261101T060000
END:STANDARD
BEGIN:DAYLIGHT
TZOFFSETFROM:-0500
TZOFFSETTO:-0400
TZNAME:EDT
DTSTART:20270314T070000
END:DAYLIGHT
BEGIN:STANDARD
TZOFFSETFROM:-0400
TZOFFSETTO:-0500
TZNAME:EST
DTSTART:20271107T060000
END:STANDARD
END:VTIMEZONE
BEGIN:VEVENT
DTSTART;TZID=America/New_York:20260118T160000
DTEND;TZID=America/New_York:20260118T180000
DTSTAMP:20260420T161529
CREATED:20260108T143944Z
LAST-MODIFIED:20260108T143944Z
UID:10000326-1768752000-1768759200@episcopalvirginia.org
SUMMARY:Clarinet and Piano Recital by Alexander Bedenko & Tatiana Mann
DESCRIPTION:Join us for the Sunday afternoon of beautiful clarinet and piano music! \nAlexander Bedenko is a multi-award-winning clarinetist and one of the most prolific artists of his generation. Tatiana Roitman Mann is an internationally acclaimed pianist described by the BBC as “formidable…both accurate and with rarely seen joy.” Both Baltimore based\, originally from Ukraine\, Alexander and Tatiana have been collaborating numerous concerts in the U.S. Please do not miss! \nProgram:\nSonata for Piano & Clarinet #2 in E-flat major /Brahms\nFantasiestücke\, op.73 / R. Schumann\nSelections from Preludes\, op.24 / Shostakovich (arranged by A. Bedenko for clarinet & piano)\nSonata for Clarinet and Piano / Poulenc \nAdmission: Free (donation of $25 or more to partially defray costs is appreciated) \nWine & cheese reception follows the concert. \nMore Information \nFor questions/comments\, please email Mariko Hiller.
URL:https://episcopalvirginia.org/event/clarinet-and-piano-recital-by-alexander-bedenko-tatiana-mann/
LOCATION:St. Patrick’s Episcopal\, Falls Church\, 3241 Brush Drive\, Falls Church\, VA\, 22042\, United States
CATEGORIES:Church Events,Music & Worship
END:VEVENT
END:VCALENDAR