BEGIN:VCALENDAR
VERSION:2.0
PRODID:-//The Episcopal Diocese of Virginia - ECPv6.15.20//NONSGML v1.0//EN
CALSCALE:GREGORIAN
METHOD:PUBLISH
X-ORIGINAL-URL:https://episcopalvirginia.org
X-WR-CALDESC:Events for The Episcopal Diocese of Virginia
REFRESH-INTERVAL;VALUE=DURATION:PT1H
X-Robots-Tag:noindex
X-PUBLISHED-TTL:PT1H
BEGIN:VTIMEZONE
TZID:America/New_York
BEGIN:DAYLIGHT
TZOFFSETFROM:-0500
TZOFFSETTO:-0400
TZNAME:EDT
DTSTART:20240310T070000
END:DAYLIGHT
BEGIN:STANDARD
TZOFFSETFROM:-0400
TZOFFSETTO:-0500
TZNAME:EST
DTSTART:20241103T060000
END:STANDARD
BEGIN:DAYLIGHT
TZOFFSETFROM:-0500
TZOFFSETTO:-0400
TZNAME:EDT
DTSTART:20250309T070000
END:DAYLIGHT
BEGIN:STANDARD
TZOFFSETFROM:-0400
TZOFFSETTO:-0500
TZNAME:EST
DTSTART:20251102T060000
END:STANDARD
BEGIN:DAYLIGHT
TZOFFSETFROM:-0500
TZOFFSETTO:-0400
TZNAME:EDT
DTSTART:20260308T070000
END:DAYLIGHT
BEGIN:STANDARD
TZOFFSETFROM:-0400
TZOFFSETTO:-0500
TZNAME:EST
DTSTART:20261101T060000
END:STANDARD
END:VTIMEZONE
BEGIN:VEVENT
DTSTART;VALUE=DATE:20251022
DTEND;VALUE=DATE:20251026
DTSTAMP:20260420T120259
CREATED:20250822T034840Z
LAST-MODIFIED:20250822T034840Z
UID:10000282-1761091200-1761436799@episcopalvirginia.org
SUMMARY:Writing the Church's Song 2025
DESCRIPTION:For those who work for the church week in and week out\, time away to rest\, reflect\, and re-inspire is important. Writing the Church’s Song is a three-day writing retreat for beginner and intermediate hymn writers. Two exceptional clinicians will challenge\, inspire\, and guide you as a hymn writer. These mentors will provide sessions on how to start writing hymns and how to hone your skills throughout the three days. Group sessions to build writing/composing skills will be offered\, as well as one-on-one time with the mentors to discuss your works in detail and receive personal feedback. \nMore Information & Registration
URL:https://episcopalvirginia.org/event/song-writers-retreat-2025/
LOCATION:Richmond Hill\, 2209 E Grace St\, Richmond\, VA\, 23223\, United States
CATEGORIES:Music & Worship
END:VEVENT
BEGIN:VEVENT
DTSTART;TZID=America/New_York:20251025T193000
DTEND;TZID=America/New_York:20251025T213000
DTSTAMP:20260420T120259
CREATED:20251014T161950Z
LAST-MODIFIED:20251014T161950Z
UID:10000299-1761420600-1761427800@episcopalvirginia.org
SUMMARY:Free Concert at St. George's: Scary Music for Organ
DESCRIPTION:St. George’s Episcopal Church will offer a free concert of Scary Music for Organ on Saturday\, October 25\, 2025 at 7:30 pm\, featuring The Organist Friends of St. George’s (Trystan Bennett\, Achim Loch\, John Vreeland\, Alex Johnson\, and Magnus Lartey). \nOur most popular annual concert includes haunting renditions of works by J.S. Bach\, Fela Sowande\, Felix Mendelssohn\, Marcel Dupré\, Hans Zimmer\, Max Reger\, Herbert Howells\, Jean Langlais and César Franck. The evening will be sure to be terrifyingly delightful and monstrously entertaining. Feel free to come in costume! \nThe concert is free with donations to the organ fund accepted at the door. \nKnown for its lush acoustics and welcoming atmosphere\, St. George’s offers a year-round concert series showcasing both local and nationally recognized artists. This performance promises an afternoon of “beautiful music in a beautiful space\,” continuing the church’s tradition of musical excellence. Admission is free\, with donations gratefully accepted at the door to support our music and ministry at St. George’s. \nSt. George’s Episcopal Church is a vibrant and inclusive spiritual community. “No matter who you are\, whom you love\, or where you’ve been\, there’s a place for you here\,” says the church’s leadership. With a commitment to service\, justice\, and peace\, St. George’s welcomes all to experience its diverse worship and music offerings. \nFor more information about the concert or the church’s music series\, please contact (540) 373-4133 or email music@stgeorgesepiscopal.net. Visit www.stgeorgesepiscopal.net/music/concerts to learn more.
URL:https://episcopalvirginia.org/event/scary-music/
LOCATION:St. George’s Episcopal\, Fredericksburg\, 905 Princess Anne Street\, Fredericksburg\, VA\, 22401\, United States
CATEGORIES:Music & Worship
END:VEVENT
END:VCALENDAR