BEGIN:VCALENDAR
VERSION:2.0
PRODID:-//The Episcopal Diocese of Virginia - ECPv6.15.20//NONSGML v1.0//EN
CALSCALE:GREGORIAN
METHOD:PUBLISH
X-ORIGINAL-URL:https://episcopalvirginia.org
X-WR-CALDESC:Events for The Episcopal Diocese of Virginia
REFRESH-INTERVAL;VALUE=DURATION:PT1H
X-Robots-Tag:noindex
X-PUBLISHED-TTL:PT1H
BEGIN:VTIMEZONE
TZID:America/New_York
BEGIN:DAYLIGHT
TZOFFSETFROM:-0500
TZOFFSETTO:-0400
TZNAME:EDT
DTSTART:20250309T070000
END:DAYLIGHT
BEGIN:STANDARD
TZOFFSETFROM:-0400
TZOFFSETTO:-0500
TZNAME:EST
DTSTART:20251102T060000
END:STANDARD
BEGIN:DAYLIGHT
TZOFFSETFROM:-0500
TZOFFSETTO:-0400
TZNAME:EDT
DTSTART:20260308T070000
END:DAYLIGHT
BEGIN:STANDARD
TZOFFSETFROM:-0400
TZOFFSETTO:-0500
TZNAME:EST
DTSTART:20261101T060000
END:STANDARD
BEGIN:DAYLIGHT
TZOFFSETFROM:-0500
TZOFFSETTO:-0400
TZNAME:EDT
DTSTART:20270314T070000
END:DAYLIGHT
BEGIN:STANDARD
TZOFFSETFROM:-0400
TZOFFSETTO:-0500
TZNAME:EST
DTSTART:20271107T060000
END:STANDARD
END:VTIMEZONE
BEGIN:VEVENT
DTSTART;TZID=America/New_York:20260426T160000
DTEND;TZID=America/New_York:20260426T180000
DTSTAMP:20260421T222221
CREATED:20260303T190657Z
LAST-MODIFIED:20260303T190657Z
UID:10000388-1777219200-1777226400@episcopalvirginia.org
SUMMARY:St. Paul's Masterworks Concert: A Patriotic Organ Concert
DESCRIPTION:Richmond concert and parish organist Cheryl Van Ornam will play a concert in celebration of our 250th year of independence and St Pauls 300th Year on the Hill on the pipe organ of St Pauls King George. Reception follows.
URL:https://episcopalvirginia.org/event/st-pauls-masterworks-concert-a-patriotic-organ-concert/
LOCATION:St. Paul’s Episcopal Church\, King George\, 5486 St. Pauls Road\, King George\, VA\, 22485\, United States
CATEGORIES:Church Events,Music & Worship
END:VEVENT
BEGIN:VEVENT
DTSTART;TZID=America/New_York:20260426T160000
DTEND;TZID=America/New_York:20260426T180000
DTSTAMP:20260421T222221
CREATED:20260410T160220Z
LAST-MODIFIED:20260410T160220Z
UID:10000398-1777219200-1777226400@episcopalvirginia.org
SUMMARY:Jazz at Meade 2026 Concert Series
DESCRIPTION:Meade Church and Yellow Door Concert Series present Jazz at Meade 2026. All concerts are held on Sunday afternoon from 4-6 pm. Light refreshments/Street parking. Featured Artist on April 26th is vocalist Petra Martin (See websites for more information about the artist). \nSingle Ticket $25/ College Student Ticket $10/ Virtual Zoom Link Ticket $10/Season Ticket Pass $135 \nTickets also available at the door.
URL:https://episcopalvirginia.org/event/jazz-at-meade-2026-1/
LOCATION:Meade Memorial Episcopal Church\, Alexandria\, 322 North Alfred Street\, Alexandria\, VA\, 22314\, United States
CATEGORIES:Church Events,Music & Worship
END:VEVENT
BEGIN:VEVENT
DTSTART;TZID=America/New_York:20260426T160000
DTEND;TZID=America/New_York:20260426T180000
DTSTAMP:20260421T222221
CREATED:20260415T173806Z
LAST-MODIFIED:20260415T173806Z
UID:10000403-1777219200-1777226400@episcopalvirginia.org
SUMMARY:"The Story" the Musical
DESCRIPTION:A powerful benefit concert presented by Christ Church Episcopal Music Ministry & Friends. Experience the Bible as one unified story pointing to Jesus-featuring award-winning music by Bernie Herms and Nichole Nordeman\, inspired by the bestselling work of Max Lucado and Randy Frazee. \nFree Admission | Donations Encouraged\nSupporting Anna Julia Cooper School\nand St. Andrews School
URL:https://episcopalvirginia.org/event/the-story-the-musical/
LOCATION:Christ Church Episcopal\, Glen Allen\, 5000 Pouncey Tract Rd\, Glen Allen\, VA\, 23059\, United States
CATEGORIES:Church Events,Music & Worship
END:VEVENT
BEGIN:VEVENT
DTSTART;TZID=America/New_York:20260503T130000
DTEND;TZID=America/New_York:20260503T160000
DTSTAMP:20260421T222221
CREATED:20260416T181936Z
LAST-MODIFIED:20260416T181936Z
UID:10000405-1777813200-1777824000@episcopalvirginia.org
SUMMARY:The Commons at Little Fork Church ADA Trail Grand Opening
DESCRIPTION:The Little Fork Interpretive & Recreational Trail marks the first completed phase of The Commons at Little Fork Church—a shared community space that brings together nature\, history\, and the arts. Built through funding partnerships\, the generous gift of professional expertise\, and a congregation’s commitment to open this historic land to all\, the trail offers a free\, accessible place for walking\, reflection\, and gathering. \nWe invite you to join us on May 3 as we celebrate the opening of this new space. \n1:00 Lunch & Lawn Games\n2:00 Recognition & Ribbon Cutting\n2:30 Gregg’s Grove Dedication\n3:00 All Ages Scavenger Hunt
URL:https://episcopalvirginia.org/event/commons-little-fork/
LOCATION:The Commons at Little Fork\, 16471 Oak Shade Rd\, Rixeyville\, VA\, 22737\, United States
CATEGORIES:Church Events
END:VEVENT
BEGIN:VEVENT
DTSTART;VALUE=DATE:20260516
DTEND;VALUE=DATE:20260518
DTSTAMP:20260421T222221
CREATED:20260302T185001Z
LAST-MODIFIED:20260302T185001Z
UID:10000386-1778889600-1779062399@episcopalvirginia.org
SUMMARY:Walking With the Enslaved Pilgrimage
DESCRIPTION:On behalf of the worshiping communities of St. Philip’s Episcopal Church and St. Paul’s Episcopal Church\, you are invited to register for Walking with the Enslaved: A Pilgrimage toward Truth\, Reconciliation\, and Hope in Richmond. \nThrough this immersive\, faith-based experience\, participants engage with four centuries of Richmond’s racial history. On this journey\, we confront the ways that white people distorted Christianity to justify colonization\, slavery\, and the construct of racial identity while recognizing the role that Christian faith played for African Americans to inspire resistance\, hope\, and liberation. By uncovering the truth of this history\, we seek to inspire racial healing and equip communities to enact Jesus-centered justice in the future. \nThe pilgrimage occurs in two parts on separate\, consecutive days:  \nSaturday\, May 16th from 8:30 AM – 2:00 PM:  An experiential walking tour of historical sites\, including lunch\, that begins and ends at St. Paul’s Episcopal Church (815 E. Grace Street). Participants stand and walk for extended periods during the site visits\, covering two to three miles overall with a bus transporting participants between some of the sites. \nExpect varying terrain and levels of difficulty\, including dirt trails\, cobblestones\, and moderate inclines. Please inform us of any mobility concerns ahead of time. \nSunday\, May 17th from 1 PM – 3 PM:  A facilitated group reflection at St. Philip’s Episcopal Church (2900 Hanes Ave.) from 1 PM to 3 PM. \nThe group reflection is integral to the pilgrimage experience. It is expected that anyone who signs up for the pilgrimage is committed to participating on both days. \nPilgrimage Fees & Support\nThe registration fee for the two-day pilgrimage is $35 per person. We offer scholarships so that cost is never a barrier to participation. \nThe true cost of offering this pilgrimage is closer to $100 per person. If you are able\, we warmly welcome additional donations to help sustain the program and make participation possible for others. \nParticipation is limited to 35 people. \nDetails on preparation and logistics will be provided to participants one week before the pilgrimage. \nFor more information or to inquire about scholarships\, please contact Dr. Glyn Hughes\, Program Director.
URL:https://episcopalvirginia.org/event/walking-with-enslaved-4/
LOCATION:VA
CATEGORIES:Church Events
END:VEVENT
END:VCALENDAR