BEGIN:VCALENDAR
VERSION:2.0
PRODID:-//The Episcopal Diocese of Virginia - ECPv6.15.20//NONSGML v1.0//EN
CALSCALE:GREGORIAN
METHOD:PUBLISH
X-WR-CALNAME:The Episcopal Diocese of Virginia
X-ORIGINAL-URL:https://episcopalvirginia.org
X-WR-CALDESC:Events for The Episcopal Diocese of Virginia
REFRESH-INTERVAL;VALUE=DURATION:PT1H
X-Robots-Tag:noindex
X-PUBLISHED-TTL:PT1H
BEGIN:VTIMEZONE
TZID:America/New_York
BEGIN:DAYLIGHT
TZOFFSETFROM:-0500
TZOFFSETTO:-0400
TZNAME:EDT
DTSTART:20230312T070000
END:DAYLIGHT
BEGIN:STANDARD
TZOFFSETFROM:-0400
TZOFFSETTO:-0500
TZNAME:EST
DTSTART:20231105T060000
END:STANDARD
BEGIN:DAYLIGHT
TZOFFSETFROM:-0500
TZOFFSETTO:-0400
TZNAME:EDT
DTSTART:20240310T070000
END:DAYLIGHT
BEGIN:STANDARD
TZOFFSETFROM:-0400
TZOFFSETTO:-0500
TZNAME:EST
DTSTART:20241103T060000
END:STANDARD
BEGIN:DAYLIGHT
TZOFFSETFROM:-0500
TZOFFSETTO:-0400
TZNAME:EDT
DTSTART:20250309T070000
END:DAYLIGHT
BEGIN:STANDARD
TZOFFSETFROM:-0400
TZOFFSETTO:-0500
TZNAME:EST
DTSTART:20251102T060000
END:STANDARD
END:VTIMEZONE
BEGIN:VEVENT
DTSTART;VALUE=DATE:20240531
DTEND;VALUE=DATE:20240603
DTSTAMP:20260420T053339
CREATED:20240322T134819Z
LAST-MODIFIED:20240412T142418Z
UID:3801-1717113600-1717372799@episcopalvirginia.org
SUMMARY:Women's Retreat: Hope All the Way Down
DESCRIPTION:We are living in a weary world\, a world in desperate need of hope. Join us and keynote speaker The Rev. MaryAnn McKibben Dana for a retreat that will refresh your spirit and give you real-world tools to be hope mongers in your own communities. We will explore hope on all levels: theological\, cultural\, personal\, and practical. Come for a rich and eclectic blend of scripture\, theology\, psychology\, culture\, and more\, as we dream\, discuss\, play\, and build resilience together. \nLearn More
URL:https://episcopalvirginia.org/event/womens-retreat-hope-all-the-way-down/
LOCATION:Shrine Mont Camps\, 217 Shrine Mont Circle\, Orkney Springs\, 22845\, United States
CATEGORIES:Shrine Mont Camp
END:VEVENT
END:VCALENDAR