BEGIN:VCALENDAR
VERSION:2.0
PRODID:-//The Episcopal Diocese of Virginia - ECPv6.15.20//NONSGML v1.0//EN
CALSCALE:GREGORIAN
METHOD:PUBLISH
X-WR-CALNAME:The Episcopal Diocese of Virginia
X-ORIGINAL-URL:https://episcopalvirginia.org
X-WR-CALDESC:Events for The Episcopal Diocese of Virginia
REFRESH-INTERVAL;VALUE=DURATION:PT1H
X-Robots-Tag:noindex
X-PUBLISHED-TTL:PT1H
BEGIN:VTIMEZONE
TZID:America/New_York
BEGIN:DAYLIGHT
TZOFFSETFROM:-0500
TZOFFSETTO:-0400
TZNAME:EDT
DTSTART:20240310T070000
END:DAYLIGHT
BEGIN:STANDARD
TZOFFSETFROM:-0400
TZOFFSETTO:-0500
TZNAME:EST
DTSTART:20241103T060000
END:STANDARD
BEGIN:DAYLIGHT
TZOFFSETFROM:-0500
TZOFFSETTO:-0400
TZNAME:EDT
DTSTART:20250309T070000
END:DAYLIGHT
BEGIN:STANDARD
TZOFFSETFROM:-0400
TZOFFSETTO:-0500
TZNAME:EST
DTSTART:20251102T060000
END:STANDARD
BEGIN:DAYLIGHT
TZOFFSETFROM:-0500
TZOFFSETTO:-0400
TZNAME:EDT
DTSTART:20260308T070000
END:DAYLIGHT
BEGIN:STANDARD
TZOFFSETFROM:-0400
TZOFFSETTO:-0500
TZNAME:EST
DTSTART:20261101T060000
END:STANDARD
END:VTIMEZONE
BEGIN:VEVENT
DTSTART;TZID=America/New_York:20251217T190000
DTEND;TZID=America/New_York:20251217T203000
DTSTAMP:20260425T073654
CREATED:20251125T021057Z
LAST-MODIFIED:20251125T032250Z
UID:12390-1765998000-1766003400@episcopalvirginia.org
SUMMARY:Winter Solstice Concert
DESCRIPTION:Sanctuary\, the Compline Choir of St. Stephen’s Church in Richmond\, presents its annual concert for the winter solstice\, “A Celebration of Light.” The choir is led by interim conductor Jeffrey Riehl\, and will also feature Peter Greydanus\, cello\, and Andrew McAvoy\, guitar. \nThis candlelit concert offers respite and beauty in the midst of a busy season and features music and poetry for the longest night of the year as we anticipate the joy of light’s return. It will take place in the church. \nA reception follows in the fellowship hall. Free parking is available in the church parking lot and on the street. The church is handicap-accessible. \nSt. Stephen’s labyrinth will be available in Palmer Hall Chapel beginning at noon on the day of the concert. \nDownload the Flyer (pdf)
URL:https://episcopalvirginia.org/event/winter-solstice-concert-ststephens/
LOCATION:St. Stephen’s Episcopal\, Richmond\, 6000 Grove Ave\, Richmond\, VA\, 23226\, United States
CATEGORIES:Music & Worship
END:VEVENT
END:VCALENDAR