BEGIN:VCALENDAR
VERSION:2.0
PRODID:-//The Episcopal Diocese of Virginia - ECPv6.15.20//NONSGML v1.0//EN
CALSCALE:GREGORIAN
METHOD:PUBLISH
X-WR-CALNAME:The Episcopal Diocese of Virginia
X-ORIGINAL-URL:https://episcopalvirginia.org
X-WR-CALDESC:Events for The Episcopal Diocese of Virginia
REFRESH-INTERVAL;VALUE=DURATION:PT1H
X-Robots-Tag:noindex
X-PUBLISHED-TTL:PT1H
BEGIN:VTIMEZONE
TZID:America/New_York
BEGIN:DAYLIGHT
TZOFFSETFROM:-0500
TZOFFSETTO:-0400
TZNAME:EDT
DTSTART:20240310T070000
END:DAYLIGHT
BEGIN:STANDARD
TZOFFSETFROM:-0400
TZOFFSETTO:-0500
TZNAME:EST
DTSTART:20241103T060000
END:STANDARD
BEGIN:DAYLIGHT
TZOFFSETFROM:-0500
TZOFFSETTO:-0400
TZNAME:EDT
DTSTART:20250309T070000
END:DAYLIGHT
BEGIN:STANDARD
TZOFFSETFROM:-0400
TZOFFSETTO:-0500
TZNAME:EST
DTSTART:20251102T060000
END:STANDARD
BEGIN:DAYLIGHT
TZOFFSETFROM:-0500
TZOFFSETTO:-0400
TZNAME:EDT
DTSTART:20260308T070000
END:DAYLIGHT
BEGIN:STANDARD
TZOFFSETFROM:-0400
TZOFFSETTO:-0500
TZNAME:EST
DTSTART:20261101T060000
END:STANDARD
END:VTIMEZONE
BEGIN:VEVENT
DTSTART;TZID=America/New_York:20251004T100000
DTEND;TZID=America/New_York:20251004T120000
DTSTAMP:20260421T083636
CREATED:20250908T152315Z
LAST-MODIFIED:20250908T153545Z
UID:10636-1759572000-1759579200@episcopalvirginia.org
SUMMARY:Water and Wilderness Church with Blessing of the Pets in Honor of St. Francis Feast Day
DESCRIPTION:An interactive\, intergenerational\, interspecies outdoor worship service of contemplation and communion along the James River at Belle Isle. Together\, we will give thanks to God our Creator\, bless God’s creatures\, and pray for the healing for God’s good creation. Father Pete Nunnally\, founder of Water and Wilderness Church from the Diocese of Washington\, will be our guest celebrant and preacher. Bring a camping chair and your well behaved pet\, or a photo of your pet. \nAccess: Park in Belle Isle Parking lot (300 Tredegar Street) and walk across Belle Isle Suspension Bridge\, come down the ramp\, and take the immediate left to gather at the Chrysler Factory ruin. \nContact The Rev. Gwynn Crichton at St. Paul’s Episcopal Church for more information.
URL:https://episcopalvirginia.org/event/water-and-wilderness-church/
LOCATION:James River at Belle Isle
CATEGORIES:Church Events
END:VEVENT
END:VCALENDAR