BEGIN:VCALENDAR
VERSION:2.0
PRODID:-//The Episcopal Diocese of Virginia - ECPv6.15.20//NONSGML v1.0//EN
CALSCALE:GREGORIAN
METHOD:PUBLISH
X-WR-CALNAME:The Episcopal Diocese of Virginia
X-ORIGINAL-URL:https://episcopalvirginia.org
X-WR-CALDESC:Events for The Episcopal Diocese of Virginia
REFRESH-INTERVAL;VALUE=DURATION:PT1H
X-Robots-Tag:noindex
X-PUBLISHED-TTL:PT1H
BEGIN:VTIMEZONE
TZID:America/New_York
BEGIN:DAYLIGHT
TZOFFSETFROM:-0500
TZOFFSETTO:-0400
TZNAME:EDT
DTSTART:20240310T070000
END:DAYLIGHT
BEGIN:STANDARD
TZOFFSETFROM:-0400
TZOFFSETTO:-0500
TZNAME:EST
DTSTART:20241103T060000
END:STANDARD
BEGIN:DAYLIGHT
TZOFFSETFROM:-0500
TZOFFSETTO:-0400
TZNAME:EDT
DTSTART:20250309T070000
END:DAYLIGHT
BEGIN:STANDARD
TZOFFSETFROM:-0400
TZOFFSETTO:-0500
TZNAME:EST
DTSTART:20251102T060000
END:STANDARD
BEGIN:DAYLIGHT
TZOFFSETFROM:-0500
TZOFFSETTO:-0400
TZNAME:EDT
DTSTART:20260308T070000
END:DAYLIGHT
BEGIN:STANDARD
TZOFFSETFROM:-0400
TZOFFSETTO:-0500
TZNAME:EST
DTSTART:20261101T060000
END:STANDARD
END:VTIMEZONE
BEGIN:VEVENT
DTSTART;TZID=America/New_York:20250326T120000
DTEND;TZID=America/New_York:20250326T133000
DTSTAMP:20260421T052916
CREATED:20250225T222050Z
LAST-MODIFIED:20250225T222051Z
UID:10000210-1742990400-1742995800@episcopalvirginia.org
SUMMARY:St. Paul's Richmond's Lenten Lunch Series
DESCRIPTION:Fifty years ago\, the Episcopal Church ordained its first female clergy. The 2025 Lenten Lunch and Speaker series celebrates this hallmark event. Each week\, a female faith leader will talk about their experiences of serving as leaders in faith communities. \nRead More About St. Paul’s Lenten Lunches
URL:https://episcopalvirginia.org/event/st-pauls-lenten-lunch/2025-03-26/
LOCATION:St. Paul’s Episcopal\, Richmond\, 815 E Grace St.\, Richmond\, VA\, 23219\, United States
CATEGORIES:Church Events
END:VEVENT
END:VCALENDAR