BEGIN:VCALENDAR
VERSION:2.0
PRODID:-//The Episcopal Diocese of Virginia - ECPv6.15.20//NONSGML v1.0//EN
CALSCALE:GREGORIAN
METHOD:PUBLISH
X-WR-CALNAME:The Episcopal Diocese of Virginia
X-ORIGINAL-URL:https://episcopalvirginia.org
X-WR-CALDESC:Events for The Episcopal Diocese of Virginia
REFRESH-INTERVAL;VALUE=DURATION:PT1H
X-Robots-Tag:noindex
X-PUBLISHED-TTL:PT1H
BEGIN:VTIMEZONE
TZID:America/New_York
BEGIN:DAYLIGHT
TZOFFSETFROM:-0500
TZOFFSETTO:-0400
TZNAME:EDT
DTSTART:20240310T070000
END:DAYLIGHT
BEGIN:STANDARD
TZOFFSETFROM:-0400
TZOFFSETTO:-0500
TZNAME:EST
DTSTART:20241103T060000
END:STANDARD
BEGIN:DAYLIGHT
TZOFFSETFROM:-0500
TZOFFSETTO:-0400
TZNAME:EDT
DTSTART:20250309T070000
END:DAYLIGHT
BEGIN:STANDARD
TZOFFSETFROM:-0400
TZOFFSETTO:-0500
TZNAME:EST
DTSTART:20251102T060000
END:STANDARD
BEGIN:DAYLIGHT
TZOFFSETFROM:-0500
TZOFFSETTO:-0400
TZNAME:EDT
DTSTART:20260308T070000
END:DAYLIGHT
BEGIN:STANDARD
TZOFFSETFROM:-0400
TZOFFSETTO:-0500
TZNAME:EST
DTSTART:20261101T060000
END:STANDARD
END:VTIMEZONE
BEGIN:VEVENT
DTSTART;TZID=America/New_York:20251221T150000
DTEND;TZID=America/New_York:20251221T170000
DTSTAMP:20260425T073821
CREATED:20251204T172805Z
LAST-MODIFIED:20251204T173009Z
UID:12547-1766329200-1766336400@episcopalvirginia.org
SUMMARY:St. George's Christmas Concert
DESCRIPTION:St. George’s Episcopal Church invites the community to a free Christmas concert on Sunday\, December 21\, 2025\, at 3:00 pm\, featuring the parish’s music ensembles. The concert will be held in the church’s historic nave\, located at 905 Princess Anne Street in downtown Fredericksburg. Come and celebrate the season with St. George’s organists\, choirs\, jazz band\, Celtic ensemble\, and more. All are welcome to join for a musical Christmas feast guaranteed to make all merry and bright. \nKnown for its lush acoustics and welcoming atmosphere\, St. George’s offers a year-round concert series showcasing both local and nationally recognized artists. This performance promises an afternoon of “beautiful music in a beautiful space\,” continuing the church’s tradition of musical excellence. Admission is free\, with donations gratefully accepted at the door to support our music and ministry at St. George’s and St. George’s partnership ministry in Haiti. \nSt. George’s Episcopal Church is a vibrant and inclusive spiritual community. “No matter who you are\, whom you love\, or where you’ve been\, there’s a place for you here\,” says the church’s leadership. With a commitment to service\, justice\, and peace\, St. George’s welcomes all to experience its diverse worship and music offerings. \nFor more information about the concert or the church’s music series\, please contact (540) 373-4133 or send an email. \nMore Information
URL:https://episcopalvirginia.org/event/st-georges-christmas-concert-2025/
LOCATION:St. George’s Episcopal\, Fredericksburg\, 905 Princess Anne Street\, Fredericksburg\, VA\, 22401\, United States
CATEGORIES:Music & Worship
END:VEVENT
END:VCALENDAR