BEGIN:VCALENDAR
VERSION:2.0
PRODID:-//The Episcopal Diocese of Virginia - ECPv6.15.20//NONSGML v1.0//EN
CALSCALE:GREGORIAN
METHOD:PUBLISH
X-WR-CALNAME:The Episcopal Diocese of Virginia
X-ORIGINAL-URL:https://episcopalvirginia.org
X-WR-CALDESC:Events for The Episcopal Diocese of Virginia
REFRESH-INTERVAL;VALUE=DURATION:PT1H
X-Robots-Tag:noindex
X-PUBLISHED-TTL:PT1H
BEGIN:VTIMEZONE
TZID:America/New_York
BEGIN:DAYLIGHT
TZOFFSETFROM:-0500
TZOFFSETTO:-0400
TZNAME:EDT
DTSTART:20240310T070000
END:DAYLIGHT
BEGIN:STANDARD
TZOFFSETFROM:-0400
TZOFFSETTO:-0500
TZNAME:EST
DTSTART:20241103T060000
END:STANDARD
BEGIN:DAYLIGHT
TZOFFSETFROM:-0500
TZOFFSETTO:-0400
TZNAME:EDT
DTSTART:20250309T070000
END:DAYLIGHT
BEGIN:STANDARD
TZOFFSETFROM:-0400
TZOFFSETTO:-0500
TZNAME:EST
DTSTART:20251102T060000
END:STANDARD
BEGIN:DAYLIGHT
TZOFFSETFROM:-0500
TZOFFSETTO:-0400
TZNAME:EDT
DTSTART:20260308T070000
END:DAYLIGHT
BEGIN:STANDARD
TZOFFSETFROM:-0400
TZOFFSETTO:-0500
TZNAME:EST
DTSTART:20261101T060000
END:STANDARD
END:VTIMEZONE
BEGIN:VEVENT
DTSTART;TZID=America/New_York:20251109T160000
DTEND;TZID=America/New_York:20251109T180000
DTSTAMP:20260425T073635
CREATED:20251022T162757Z
LAST-MODIFIED:20251022T162757Z
UID:11789-1762704000-1762711200@episcopalvirginia.org
SUMMARY:Quatuor Agate String Quartet
DESCRIPTION:The prize-winning Quatuor Agate String Quartet will perform as part of the Odeon Chamber Music Series at St. Patrick’s. The program includes String quartet No. 21 / Mozart; “New Work” / Anna Korsun; and String Quartet / Ravel. \nA wine and cheese reception follows the concert. Admission is free; donations of $25 or more to partially defray costs is appreciated. Founded in 2016 in Berlin\, the ensemble is supported by Young Classical Artists Trust and resides in Paris. \nMore Information \nDownload the Flyer
URL:https://episcopalvirginia.org/event/quatuor-agate-string-quartet/
LOCATION:St. Patrick’s Episcopal\, Falls Church\, 3241 Brush Drive\, Falls Church\, VA\, 22042\, United States
CATEGORIES:Music & Worship
END:VEVENT
END:VCALENDAR