BEGIN:VCALENDAR
VERSION:2.0
PRODID:-//The Episcopal Diocese of Virginia - ECPv6.15.20//NONSGML v1.0//EN
CALSCALE:GREGORIAN
METHOD:PUBLISH
X-WR-CALNAME:The Episcopal Diocese of Virginia
X-ORIGINAL-URL:https://episcopalvirginia.org
X-WR-CALDESC:Events for The Episcopal Diocese of Virginia
REFRESH-INTERVAL;VALUE=DURATION:PT1H
X-Robots-Tag:noindex
X-PUBLISHED-TTL:PT1H
BEGIN:VTIMEZONE
TZID:America/New_York
BEGIN:DAYLIGHT
TZOFFSETFROM:-0500
TZOFFSETTO:-0400
TZNAME:EDT
DTSTART:20230312T070000
END:DAYLIGHT
BEGIN:STANDARD
TZOFFSETFROM:-0400
TZOFFSETTO:-0500
TZNAME:EST
DTSTART:20231105T060000
END:STANDARD
BEGIN:DAYLIGHT
TZOFFSETFROM:-0500
TZOFFSETTO:-0400
TZNAME:EDT
DTSTART:20240310T070000
END:DAYLIGHT
BEGIN:STANDARD
TZOFFSETFROM:-0400
TZOFFSETTO:-0500
TZNAME:EST
DTSTART:20241103T060000
END:STANDARD
BEGIN:DAYLIGHT
TZOFFSETFROM:-0500
TZOFFSETTO:-0400
TZNAME:EDT
DTSTART:20250309T070000
END:DAYLIGHT
BEGIN:STANDARD
TZOFFSETFROM:-0400
TZOFFSETTO:-0500
TZNAME:EST
DTSTART:20251102T060000
END:STANDARD
END:VTIMEZONE
BEGIN:VEVENT
DTSTART;VALUE=DATE:20240608
DTEND;VALUE=DATE:20240610
DTSTAMP:20260421T083331
CREATED:20240517T170400Z
LAST-MODIFIED:20240517T170400Z
UID:5047-1717804800-1717977599@episcopalvirginia.org
SUMMARY:Poor People’s Campaign: Resurrecting Hope
DESCRIPTION:Bishop William Barber II\, DMin (Disciples of Christ)\, Co-Chair of the Poor People’s Campaign and founder of Repairers of the Breach\, is coming to Richmond June 8th and 9th.  St. Paul’s Episcopal Church (815 E Grace St\, Richmond) will host Bishop Barber during this important stop on his national preaching tour to mobilize turnout for the Mass Poor People’s and Low-Wage Workers’ Assembly in Washington D.C. on June 29th. All are welcome to participate in these powerful events of faith and solidarity! \nFilm Screening of Bad Faith: Christian Nationalism’s Unholy War on Democracy\nSaturday\, June 8th @ 2 – 4 PM \nSt. Paul’s Episcopal Church. Join us for a screening of the documentary Bad Faith\, that traces the rise of Christian nationalist movement\, followed by an insightful conversation with Bishop Barber. Register for free by visiting https://secure.everyaction.com/3tnMsmcy_UeP6vaIgp0Pmg2. \nWelcome Bishop William Barber to St. Paul’s Pulpit\nSunday\, June 9th @ 10 AM \nBishop Barber will join us for our Sunday service of Holy Eucharist during his national preaching tour. Bishop Barber is a renowned progressive Christian leader\, who has renewed Dr. King’s dream of an intersectional movement dedicated to transformational policy changes. All are invited to be nourished by Word and Sacrament as we commit ourselves to activism and advocacy. The service will be followed by a festive reception with leaders from the Poor People’s Campaign. \nForum: Poor People’s Campaign\nSunday June 9th @ 11:45 AM \nRev. Dr. Alvin O’Neal Jackson (Mass Poor People’s Low-Wage Workers’ Assembly- National Faith Convener) and Rev. Dr. Hanna R. Broome (Repairers of the Breach- National Director of Religious Affairs) will lead a discussion on the Poor People’s Campaign\, highlighting their public policy agenda for June 29th and the upcoming elections. Join us for a compelling conversation on the intersection between our faith and bold public policy initiatives.
URL:https://episcopalvirginia.org/event/poor-peoples-campaign-resurrecting-hope/
CATEGORIES:Church Events
END:VEVENT
END:VCALENDAR