BEGIN:VCALENDAR
VERSION:2.0
PRODID:-//The Episcopal Diocese of Virginia - ECPv6.15.20//NONSGML v1.0//EN
CALSCALE:GREGORIAN
METHOD:PUBLISH
X-WR-CALNAME:The Episcopal Diocese of Virginia
X-ORIGINAL-URL:https://episcopalvirginia.org
X-WR-CALDESC:Events for The Episcopal Diocese of Virginia
REFRESH-INTERVAL;VALUE=DURATION:PT1H
X-Robots-Tag:noindex
X-PUBLISHED-TTL:PT1H
BEGIN:VTIMEZONE
TZID:America/New_York
BEGIN:DAYLIGHT
TZOFFSETFROM:-0500
TZOFFSETTO:-0400
TZNAME:EDT
DTSTART:20250309T070000
END:DAYLIGHT
BEGIN:STANDARD
TZOFFSETFROM:-0400
TZOFFSETTO:-0500
TZNAME:EST
DTSTART:20251102T060000
END:STANDARD
BEGIN:DAYLIGHT
TZOFFSETFROM:-0500
TZOFFSETTO:-0400
TZNAME:EDT
DTSTART:20260308T070000
END:DAYLIGHT
BEGIN:STANDARD
TZOFFSETFROM:-0400
TZOFFSETTO:-0500
TZNAME:EST
DTSTART:20261101T060000
END:STANDARD
BEGIN:DAYLIGHT
TZOFFSETFROM:-0500
TZOFFSETTO:-0400
TZNAME:EDT
DTSTART:20270314T070000
END:DAYLIGHT
BEGIN:STANDARD
TZOFFSETFROM:-0400
TZOFFSETTO:-0500
TZNAME:EST
DTSTART:20271107T060000
END:STANDARD
END:VTIMEZONE
BEGIN:VEVENT
DTSTART;TZID=America/New_York:20260419T160000
DTEND;TZID=America/New_York:20260419T180000
DTSTAMP:20260420T061547
CREATED:20260303T185422Z
LAST-MODIFIED:20260303T185422Z
UID:13395-1776614400-1776621600@episcopalvirginia.org
SUMMARY:Dancing Heart Ensemble
DESCRIPTION:Dancing Heart Ensemble consists of Karen Johnson\, flute; Bryan Bourne\, trombone; Mariko Hiller\, piano\, and Manny Arciniega\, percussion. \nThis unique quartet will captivate you with original programs and arrangements for this non-traditional ensemble. \nOur April 19 concert “Music of the People” features folk-inspired music from around the world. The program includes Bartók’s peasant songs\, Balinese Gamelan inspired music\, a Piazolla tango\, arrangements of Japanese folk songs\, African American spirituals\, American folk music\, and more!\nJoin us for an enchanting journey around the world through music! ” \nat: St. Patrick’s Episcopal Church\n3241 Brush Drive\, Falls Church\, VA 22042 \nAdmission: Free (donation of $25 or more to partially defray costs is appreciated) \nWine & cheese reception follows the concert. \nMore Information \nFor questions/comments\, please email at Mariko Hiller.
URL:https://episcopalvirginia.org/event/dancing-heart-ensemble/
LOCATION:St. Patrick’s Episcopal\, Falls Church\, 3241 Brush Drive\, Falls Church\, VA\, 22042\, United States
CATEGORIES:Church Events
END:VEVENT
END:VCALENDAR