BEGIN:VCALENDAR
VERSION:2.0
PRODID:-//The Episcopal Diocese of Virginia - ECPv6.15.20//NONSGML v1.0//EN
CALSCALE:GREGORIAN
METHOD:PUBLISH
X-WR-CALNAME:The Episcopal Diocese of Virginia
X-ORIGINAL-URL:https://episcopalvirginia.org
X-WR-CALDESC:Events for The Episcopal Diocese of Virginia
REFRESH-INTERVAL;VALUE=DURATION:PT1H
X-Robots-Tag:noindex
X-PUBLISHED-TTL:PT1H
BEGIN:VTIMEZONE
TZID:America/New_York
BEGIN:DAYLIGHT
TZOFFSETFROM:-0500
TZOFFSETTO:-0400
TZNAME:EDT
DTSTART:20250309T070000
END:DAYLIGHT
BEGIN:STANDARD
TZOFFSETFROM:-0400
TZOFFSETTO:-0500
TZNAME:EST
DTSTART:20251102T060000
END:STANDARD
BEGIN:DAYLIGHT
TZOFFSETFROM:-0500
TZOFFSETTO:-0400
TZNAME:EDT
DTSTART:20260308T070000
END:DAYLIGHT
BEGIN:STANDARD
TZOFFSETFROM:-0400
TZOFFSETTO:-0500
TZNAME:EST
DTSTART:20261101T060000
END:STANDARD
BEGIN:DAYLIGHT
TZOFFSETFROM:-0500
TZOFFSETTO:-0400
TZNAME:EDT
DTSTART:20270314T070000
END:DAYLIGHT
BEGIN:STANDARD
TZOFFSETFROM:-0400
TZOFFSETTO:-0500
TZNAME:EST
DTSTART:20271107T060000
END:STANDARD
END:VTIMEZONE
BEGIN:VEVENT
DTSTART;TZID=America/New_York:20260503T190000
DTEND;TZID=America/New_York:20260503T200000
DTSTAMP:20260425T073500
CREATED:20260424T185324Z
LAST-MODIFIED:20260424T185455Z
UID:13830-1777834800-1777838400@episcopalvirginia.org
SUMMARY:A Concert Celebration Featuring Pianist Brian Ganz
DESCRIPTION:In celebration of St. Luke’s new Bösendorfer 225 piano\, Concerts at St. Luke’s welcomes internationally acclaimed pianist Brian Ganz to the stage for a concert celebration\, featuring an evening of piano masterpieces by Chopin and Beethoven. Brian Ganz is widely regarded as one of the leading pianists of his generation. A top prizewinner of the Marguerite Long Jacques Thibaud International Piano Competition and laureate of the Queen Elisabeth of Belgium International Piano Competition\, Mr. Ganz has appeared as soloist with orchestras throughout the United States\, Europe and Asia. \n\n\n\nAdmission is free\, though donations are encouraged and greatly appreciated. A few seating areas will be reserved\, but this concert is open to the public.
URL:https://episcopalvirginia.org/event/a-concert-celebration-featuring-pianist-brian-ganz/
LOCATION:St. Luke’s Episcopal Church\, Alexandria\, 8009 Fort Hunt Road\, Alexandria\, VA\, 22308
CATEGORIES:Church Events,Music & Worship
END:VEVENT
END:VCALENDAR